BEGIN:VCALENDAR
VERSION:2.0
PRODID:-//WRESA - ECPv6.15.18//NONSGML v1.0//EN
CALSCALE:GREGORIAN
METHOD:PUBLISH
X-WR-CALNAME:WRESA
X-ORIGINAL-URL:https://wresa.org
X-WR-CALDESC:Events for WRESA
REFRESH-INTERVAL;VALUE=DURATION:PT1H
X-Robots-Tag:noindex
X-PUBLISHED-TTL:PT1H
BEGIN:VTIMEZONE
TZID:America/New_York
BEGIN:DAYLIGHT
TZOFFSETFROM:-0500
TZOFFSETTO:-0400
TZNAME:EDT
DTSTART:20240310T070000
END:DAYLIGHT
BEGIN:STANDARD
TZOFFSETFROM:-0400
TZOFFSETTO:-0500
TZNAME:EST
DTSTART:20241103T060000
END:STANDARD
BEGIN:DAYLIGHT
TZOFFSETFROM:-0500
TZOFFSETTO:-0400
TZNAME:EDT
DTSTART:20250309T070000
END:DAYLIGHT
BEGIN:STANDARD
TZOFFSETFROM:-0400
TZOFFSETTO:-0500
TZNAME:EST
DTSTART:20251102T060000
END:STANDARD
BEGIN:DAYLIGHT
TZOFFSETFROM:-0500
TZOFFSETTO:-0400
TZNAME:EDT
DTSTART:20260308T070000
END:DAYLIGHT
BEGIN:STANDARD
TZOFFSETFROM:-0400
TZOFFSETTO:-0500
TZNAME:EST
DTSTART:20261101T060000
END:STANDARD
END:VTIMEZONE
BEGIN:VEVENT
DTSTART;TZID=America/New_York:20251001T090000
DTEND;TZID=America/New_York:20251001T150000
DTSTAMP:20260423T093915
CREATED:20250519T143041Z
LAST-MODIFIED:20250925T143022Z
UID:48343-1759309200-1759330800@wresa.org
SUMMARY:Navigating the NCEES System and Understanding the NC Teacher Evaluation Rubric
DESCRIPTION:COURSE CANCELLED\n\nDate:     October 1\, 2025\nTime:     9:00am – 3:00pm \nType:     In-Person\n\nLocation: WRESA   \n          200 Ridgefield Ct\, Suite 206\n          Asheville\, NC 28806\n\nFee:      Free\n\n**NOTE: We have a No Refund policy for our WRESA courses. However\, you\nare welcome to send a colleague in your place. Contact LaDonna Sluder\nat lsluder@wresa.org or 828-774-5681 (ext 102) if you need to change\nthe name of the person attending.\n\nCEUs:     5 Contact Hours \nLimit:    45 Participants\nAudience: Principals\, Assistant Principals\, and NCEES Site\nAdministrators new to NCEES or those who need or want a refresh\n\nWhat to Bring: Your own device\n\nDescription:  \nWRESA Top 10 NCEES Administrator Refresher: Navigating the NCEES System and Understanding the NC Teacher Evaluation Rubric. \nNavigating the NCEES System: The first half of this session will provide essential guidance on utilizing the NCEES system effectively. We will cover key topics\, including Professional Development tracking\, assigning plans\, managing access rights\, understanding the Staff Evaluation Dashboard\, accessing reporting guidance\, troubleshooting common issues\, and exploring available resources. \nUnderstanding the NC Teacher Evaluation Rubric: The second half of this session will provide a comprehensive overview of the NC Teacher Evaluation Process. Participants will learn best practices for conducting observations and delivering targeted feedback using the specific language of the rubric and gain a deeper understanding of its standards\, elements\, and descriptors. \nPresenters:  \nDonna Currie is the NCEES and OER Product Manager at the North Carolina Department of Public Instruction (NCDPI). With more than 28 years of experience in education\, she has held various roles\, including Digital Subscription and Technology Analyst\, Teacher\, Instructional Technology Facilitator\, Digital Teaching and Learning Specialist\, Virtual Academy Coordinator\, and Professional Development Coordinator. Donna is passionate about supporting educators by providing training\, resources\, and innovative solutions to enhance teaching and learning. \nBrandon Sutton is the Western Regional Director for the North Carolina Department of Public Instruction.  With more than 20 years of experience in education\, he has held various roles\, including Regional Director\, Chief Academic Officer for Swain County Schools\, middle school principal\, high school assistant principal\, and EC Teacher.  Brandon was the 2019 Wells Fargo Western Region Principal of the Year.   \nIf you have additional questions\, contact Candie Sellers at csellers@wresa.org \nIf you are unsure whether your school system is a WRESA member\, click  WRESA MEMBER List.  \nCOURSE HAS BEEN CANCELLED
URL:https://wresa.org/event/navigating-the-ncees-system-and-understanding-the-nc-teacher-evaluation-rubric/
LOCATION:WRESA\, 200 Ridgefield Ct\, Suite 206\, Asheville\, NC\, 28806\, United States
ATTACH;FMTTYPE=image/png:https://wresa.org/wp-content/uploads/2025/05/NCEESRubric400x230-1.png
ORGANIZER;CN="Candie Sellers":MAILTO:csellers@wresa.org
END:VEVENT
END:VCALENDAR