BEGIN:VCALENDAR
VERSION:2.0
PRODID:-//WRESA - ECPv6.15.18//NONSGML v1.0//EN
CALSCALE:GREGORIAN
METHOD:PUBLISH
X-ORIGINAL-URL:https://wresa.org
X-WR-CALDESC:Events for WRESA
REFRESH-INTERVAL;VALUE=DURATION:PT1H
X-Robots-Tag:noindex
X-PUBLISHED-TTL:PT1H
BEGIN:VTIMEZONE
TZID:America/New_York
BEGIN:DAYLIGHT
TZOFFSETFROM:-0500
TZOFFSETTO:-0400
TZNAME:EDT
DTSTART:20240310T070000
END:DAYLIGHT
BEGIN:STANDARD
TZOFFSETFROM:-0400
TZOFFSETTO:-0500
TZNAME:EST
DTSTART:20241103T060000
END:STANDARD
BEGIN:DAYLIGHT
TZOFFSETFROM:-0500
TZOFFSETTO:-0400
TZNAME:EDT
DTSTART:20250309T070000
END:DAYLIGHT
BEGIN:STANDARD
TZOFFSETFROM:-0400
TZOFFSETTO:-0500
TZNAME:EST
DTSTART:20251102T060000
END:STANDARD
BEGIN:DAYLIGHT
TZOFFSETFROM:-0500
TZOFFSETTO:-0400
TZNAME:EDT
DTSTART:20260308T070000
END:DAYLIGHT
BEGIN:STANDARD
TZOFFSETFROM:-0400
TZOFFSETTO:-0500
TZNAME:EST
DTSTART:20261101T060000
END:STANDARD
END:VTIMEZONE
BEGIN:VEVENT
DTSTART;TZID=America/New_York:20251029T083000
DTEND;TZID=America/New_York:20251029T150000
DTSTAMP:20260423T092851
CREATED:20250217T194835Z
LAST-MODIFIED:20250922T133506Z
UID:47404-1761726600-1761750000@wresa.org
SUMMARY:Responsibility-Centered Discipline (RCD) Day #2: Advanced Skills
DESCRIPTION:Date:     October 29\, 2025\nTime:     8:30am-3:00pm\n\nLocation: Goodwill Career Center           \n          1616 Patton Ave\n          Asheville\, NC 28806\n\n\nFee:      $ 50 WRESA Members\n          $100 Non-members\n\n**NOTE: We have a No Refund policy for our WRESA courses. However\, you\nare welcome to send a colleague in your place. Contact LaDonna Sluder\nat lsluder@wresa.org or 828-774-5681 (ext 102) if you need to change\nthe name of the person attending.\n\nCEUs:     5 Contact Hours\nLimit:    65 Participants\nAudience: Teachers\, Principals\, Assistant Principals\, and other Educational Leaders\nWhat to Bring? Your own device \nDescription:  \nBuilding upon the foundational concepts introduced in RCD Day #1\, RCD Day #2 dives deeper into the practical application of Responsibility-Centered Discipline (RCD) through scenario-based training and systemic solutions that support teachers\, students\, and administrators. \nKey components of Day #2 include: \n\nScenario Training\nLevel Three: The Correction Process (Office Referrals)\nAddressing Level 2 & 3 Students\nRCD Implementation \n\nBy the end of Day #2\, participants will be equipped with actionable tools to reinforce responsibility-centered discipline\, strengthen school-wide consistency\, and improve student outcomes through proactive\, solution-focused strategies. \nPresenter: Larry Thompson\, M.ED \nOur presenter for the day is Larry Thompson. He is often called upon to deliver keynote presentations for state and national education conferences because of his knowledge\, humor and passion for assisting today’s students. He has helped thousands of educators and schools break away from their traditional discipline models to a model that creates a responsible climate and responsible students. Larry has served in a wide variety of roles in education – from special education teacher to alternative and traditional high school principal. Larry understands that systems must be created that can be realistically implemented and sustained.  \nFor additional information/ questions contact Jill Chambers jchambers@wresa.org \nREGISTER
URL:https://wresa.org/event/responsibility-centered-discipline-rcd-day-2-advanced-skills/
LOCATION:Goodwill Career Center\, 1616 Patton Avenue\, Asheville\, NC\, 28806\, United States
ATTACH;FMTTYPE=image/png:https://wresa.org/wp-content/uploads/2025/02/RespCenterDisciplineAdvanced400x230.png
END:VEVENT
END:VCALENDAR