BEGIN:VCALENDAR
VERSION:2.0
PRODID:-//WRESA - ECPv6.15.18//NONSGML v1.0//EN
CALSCALE:GREGORIAN
METHOD:PUBLISH
X-ORIGINAL-URL:https://wresa.org
X-WR-CALDESC:Events for WRESA
REFRESH-INTERVAL;VALUE=DURATION:PT1H
X-Robots-Tag:noindex
X-PUBLISHED-TTL:PT1H
BEGIN:VTIMEZONE
TZID:America/New_York
BEGIN:DAYLIGHT
TZOFFSETFROM:-0500
TZOFFSETTO:-0400
TZNAME:EDT
DTSTART:20250309T070000
END:DAYLIGHT
BEGIN:STANDARD
TZOFFSETFROM:-0400
TZOFFSETTO:-0500
TZNAME:EST
DTSTART:20251102T060000
END:STANDARD
BEGIN:DAYLIGHT
TZOFFSETFROM:-0500
TZOFFSETTO:-0400
TZNAME:EDT
DTSTART:20260308T070000
END:DAYLIGHT
BEGIN:STANDARD
TZOFFSETFROM:-0400
TZOFFSETTO:-0500
TZNAME:EST
DTSTART:20261101T060000
END:STANDARD
BEGIN:DAYLIGHT
TZOFFSETFROM:-0500
TZOFFSETTO:-0400
TZNAME:EDT
DTSTART:20270314T070000
END:DAYLIGHT
BEGIN:STANDARD
TZOFFSETFROM:-0400
TZOFFSETTO:-0500
TZNAME:EST
DTSTART:20271107T060000
END:STANDARD
END:VTIMEZONE
BEGIN:VEVENT
DTSTART;TZID=America/New_York:20260929T090000
DTEND;TZID=America/New_York:20260929T150000
DTSTAMP:20260425T164943
CREATED:20260420T130503Z
LAST-MODIFIED:20260420T154433Z
UID:49491-1790672400-1790694000@wresa.org
SUMMARY:Student Centered Coaching
DESCRIPTION:Date:  September 29\, 2026\nTime:  9:00am – 3:00pm\n\nType:  In-Person\n\nLocation: WRESA\n          200 Ridgefield Ct\, Suite 206\n          Asheville\, NC 28806\n\n Fee:     $45 WRESA Members\n          $70 Non-members\n\n**NOTE: We have a No Refund policy for our WRESA courses. However\, you\nare welcome to send a colleague in your place. If you need to change the\nname of the person attending\, send an email to registrations@wresa.org\nwith the information of the person who will attend in your place.\n\nCEUs:   5 Contact Hours\nLimit: 45 Participants\nAudience: K-12 Instructional Coaches\nWhat to bring?: your own device\nDescription:  \nThe work of instructional coaching is a dynamic part of school communities. Supporting coaching cultures where students are at the center is an essential part of this work. Join us at WRESA to embrace the components of student-centered coaching. We will learn coaching moves that create opportunities for professional growth\, and suggestions for putting student learning at the forefront. The day will include models for co-teaching moves and providing strength-based feedback. This session is intended for K-12 instructional coaches.  \nPresenter:   \nGin Hodge is the North Carolina Center for the Advancement of Teaching (NCCAT) Chief Academic Officer. With over 30 years of experience\, she is instrumental in selecting and managing NCCAT programs and ensuring their alignment with NCCAT’s missions and goals. Gin Hodge is known for her collaborative leadership style and unwavering commitment to academic excellence. Since receiving her master’s degree from Western Carolina University\, she has contributed to the field as a classroom teacher\, instructional coach\, and NCCAT Senior Early Grades Literacy Specialist.  \nIf you have additional questions\, contact Candie Sellers at csellers@wresa.org \nIf you are unsure whether your school system is a WRESA member\, click  WRESA MEMBER List.\nREGISTER
URL:https://wresa.org/event/student-centered-coaching/
LOCATION:WRESA\, 200 Ridgefield Ct\, Suite 206\, Asheville\, NC\, 28806\, United States
ATTACH;FMTTYPE=image/png:https://wresa.org/wp-content/uploads/2026/04/StudentCenteredCoach-GinHodge400x230.png
ORGANIZER;CN="Candie Sellers":MAILTO:csellers@wresa.org
END:VEVENT
END:VCALENDAR