BEGIN:VCALENDAR
VERSION:2.0
PRODID:-//WRESA - ECPv6.15.18//NONSGML v1.0//EN
CALSCALE:GREGORIAN
METHOD:PUBLISH
X-ORIGINAL-URL:https://wresa.org
X-WR-CALDESC:Events for WRESA
REFRESH-INTERVAL;VALUE=DURATION:PT1H
X-Robots-Tag:noindex
X-PUBLISHED-TTL:PT1H
BEGIN:VTIMEZONE
TZID:America/New_York
BEGIN:DAYLIGHT
TZOFFSETFROM:-0500
TZOFFSETTO:-0400
TZNAME:EDT
DTSTART:20250309T070000
END:DAYLIGHT
BEGIN:STANDARD
TZOFFSETFROM:-0400
TZOFFSETTO:-0500
TZNAME:EST
DTSTART:20251102T060000
END:STANDARD
BEGIN:DAYLIGHT
TZOFFSETFROM:-0500
TZOFFSETTO:-0400
TZNAME:EDT
DTSTART:20260308T070000
END:DAYLIGHT
BEGIN:STANDARD
TZOFFSETFROM:-0400
TZOFFSETTO:-0500
TZNAME:EST
DTSTART:20261101T060000
END:STANDARD
BEGIN:DAYLIGHT
TZOFFSETFROM:-0500
TZOFFSETTO:-0400
TZNAME:EDT
DTSTART:20270314T070000
END:DAYLIGHT
BEGIN:STANDARD
TZOFFSETFROM:-0400
TZOFFSETTO:-0500
TZNAME:EST
DTSTART:20271107T060000
END:STANDARD
END:VTIMEZONE
BEGIN:VEVENT
DTSTART;TZID=America/New_York:20261105T090000
DTEND;TZID=America/New_York:20261105T150000
DTSTAMP:20260425T081114
CREATED:20260216T163557Z
LAST-MODIFIED:20260417T185503Z
UID:49141-1793869200-1793890800@wresa.org
SUMMARY:Hands-On Math Learning for Middle Grades (BADGE 2)
DESCRIPTION:Date:     November 5\, 2026       \nTime:     9:00am – 3:00pm \nType:     In-Person\n\nLocation: WRESA   \n          200 Ridgefield Ct\, Suite 206\n          Asheville\, NC 28806\n\nFee:      $45  WRESA Members  \n          $70  Non-members\n\n**NOTE: We have a No Refund policy for our WRESA courses. However\, you\nare welcome to send a colleague in your place. If you need to change the\nname of the person attending\, send an email to registrations@wresa.org\nwith the information of the person who will attend in your place.\n\nCEUs:     5 Contact Hours \nLimit:    25 Participants\nAudience: Teachers and Math Coaches\, Grades 6 - Math 1\nBring:    Your Own Charged Device\n\n\nDescription: \nThis session will focus on conceptual teaching and learning in the middle-grade mathematics classroom. Join us as we examine the concrete-representational-abstract (CRA) model and delve into work with manipulatives such as Hands-on Equations and Algebra Tiles. This program is intended for math teachers in grades 6- Math 1. \nPresenter: Emily Myers – Senior Math Specialist NCCAT \n***IMPORTANT NOTE: Join us as we explore strategies that allow all students to thrive and grow into successful mathematicians who ask questions\, engage in math discourse\, and think critically. This program is intended for teachers in grades 6 through Math I and is part of a 4-day NCCAT badge series for secondary math. WRESA participants can take any number of the sessions; however\, all four sessions must be completed to earn the NCCAT Math Badge. Below are the dates and the topics of the four sessions of the Secondary Math Badge series: \n\nSept 30\, 2026 – Core Math Instruction Models and Practices\nNov   5\,  2026 – Hands-On Math Learning for Middle Grades\nFeb  4\,   2027  – Facilitating Number Sense Routines\nMar 11\,  2027 – Authentic Problem-Solving in Middle Grades\n\nYou must sign up and pay the fee for each session individually. \nIf you have additional questions\, contact April Spencer at aspencer@wresa.org \nIf you are unsure whether your school system is a WRESA member\, click  WRESA MEMBER List.\nREGISTER
URL:https://wresa.org/event/hands-on-math-learning-for-middle-grades-badge-2/
LOCATION:WRESA\, 200 Ridgefield Ct\, Suite 206\, Asheville\, NC\, 28806\, United States
ATTACH;FMTTYPE=image/png:https://wresa.org/wp-content/uploads/2026/02/HandsOnMath-NCCAT-Badge2-.png
ORGANIZER;CN="April Spencer":MAILTO:aspencer@wresa.org
END:VEVENT
END:VCALENDAR