BEGIN:VCALENDAR
VERSION:2.0
PRODID:-//WRESA - ECPv6.15.18//NONSGML v1.0//EN
CALSCALE:GREGORIAN
METHOD:PUBLISH
X-ORIGINAL-URL:https://wresa.org
X-WR-CALDESC:Events for WRESA
REFRESH-INTERVAL;VALUE=DURATION:PT1H
X-Robots-Tag:noindex
X-PUBLISHED-TTL:PT1H
BEGIN:VTIMEZONE
TZID:America/New_York
BEGIN:DAYLIGHT
TZOFFSETFROM:-0500
TZOFFSETTO:-0400
TZNAME:EDT
DTSTART:20250309T070000
END:DAYLIGHT
BEGIN:STANDARD
TZOFFSETFROM:-0400
TZOFFSETTO:-0500
TZNAME:EST
DTSTART:20251102T060000
END:STANDARD
BEGIN:DAYLIGHT
TZOFFSETFROM:-0500
TZOFFSETTO:-0400
TZNAME:EDT
DTSTART:20260308T070000
END:DAYLIGHT
BEGIN:STANDARD
TZOFFSETFROM:-0400
TZOFFSETTO:-0500
TZNAME:EST
DTSTART:20261101T060000
END:STANDARD
BEGIN:DAYLIGHT
TZOFFSETFROM:-0500
TZOFFSETTO:-0400
TZNAME:EDT
DTSTART:20270314T070000
END:DAYLIGHT
BEGIN:STANDARD
TZOFFSETFROM:-0400
TZOFFSETTO:-0500
TZNAME:EST
DTSTART:20271107T060000
END:STANDARD
END:VTIMEZONE
BEGIN:VEVENT
DTSTART;TZID=America/New_York:20260722T090000
DTEND;TZID=America/New_York:20260722T150000
DTSTAMP:20260424T133451
CREATED:20260416T172857Z
LAST-MODIFIED:20260416T172857Z
UID:49466-1784710800-1784732400@wresa.org
SUMMARY:Early Planning for a Successful Retirement - July 2026
DESCRIPTION:Date:     July 22\, 2026\nTime:     9:00am - 3:00pm\n\nLOCATION: WRESA   \n          200 Ridgefield Ct\, Suite 206\n          Asheville\, NC 28806\n\nFEE:      $45 WRESA Members\n          $70 Non-members \n\nLIMIT:    40 Participants\n\nDescription: \nThis one-day session focuses on teachers/administrators who have taught 0 – 30 years and want assistance with critical retirement information and decision making before they retire.  This session will review the implications and repercussions of early-mid career decisions\, laws\, policies and processes\, benefit options and investment plans.  Whether you are just starting your career or close to the end- you will learn how to maximize your benefits and be ready to make better decisions for the future. The workshop will be conducted by Sherry Dixon\, April Spencer and Deborah Rapetski.  You will leave the day tired\, but much better informed. \nIf you have questions\, contact April at aspencer@wresa.org \nIf you are unsure whether your school system is a WRESA member\, click  WRESA MEMBER List.\nREGISTER
URL:https://wresa.org/event/early-planning-for-a-successful-retirement-july-2026/
LOCATION:WRESA\, 200 Ridgefield Ct\, Suite 206\, Asheville\, NC\, 28806\, United States
ATTACH;FMTTYPE=image/png:https://wresa.org/wp-content/uploads/2022/10/RetirementPlanningRoad-400x230-1.png
ORGANIZER;CN="April Spencer":MAILTO:aspencer@wresa.org
END:VEVENT
END:VCALENDAR