BEGIN:VCALENDAR
VERSION:2.0
PRODID:-//WRESA - ECPv6.15.18//NONSGML v1.0//EN
CALSCALE:GREGORIAN
METHOD:PUBLISH
X-WR-CALNAME:WRESA
X-ORIGINAL-URL:https://wresa.org
X-WR-CALDESC:Events for WRESA
REFRESH-INTERVAL;VALUE=DURATION:PT1H
X-Robots-Tag:noindex
X-PUBLISHED-TTL:PT1H
BEGIN:VTIMEZONE
TZID:America/New_York
BEGIN:DAYLIGHT
TZOFFSETFROM:-0500
TZOFFSETTO:-0400
TZNAME:EDT
DTSTART:20240310T070000
END:DAYLIGHT
BEGIN:STANDARD
TZOFFSETFROM:-0400
TZOFFSETTO:-0500
TZNAME:EST
DTSTART:20241103T060000
END:STANDARD
BEGIN:DAYLIGHT
TZOFFSETFROM:-0500
TZOFFSETTO:-0400
TZNAME:EDT
DTSTART:20250309T070000
END:DAYLIGHT
BEGIN:STANDARD
TZOFFSETFROM:-0400
TZOFFSETTO:-0500
TZNAME:EST
DTSTART:20251102T060000
END:STANDARD
BEGIN:DAYLIGHT
TZOFFSETFROM:-0500
TZOFFSETTO:-0400
TZNAME:EDT
DTSTART:20260308T070000
END:DAYLIGHT
BEGIN:STANDARD
TZOFFSETFROM:-0400
TZOFFSETTO:-0500
TZNAME:EST
DTSTART:20261101T060000
END:STANDARD
END:VTIMEZONE
BEGIN:VEVENT
DTSTART;TZID=America/New_York:20250805T090000
DTEND;TZID=America/New_York:20250805T150000
DTSTAMP:20260425T091330
CREATED:20250307T160129Z
LAST-MODIFIED:20250802T151217Z
UID:47615-1754384400-1754406000@wresa.org
SUMMARY:Franklin Covey 4 Disciplines of Execution for Educators
DESCRIPTION:Date:     August 5\, 2025  (Cancelled - To Be Rescheduled)\nTime:     9:00am – 3:00pm \nType:     In-Person\n\nLocation: WCU Biltmore Park\n          28 Schenck Pkwy\n          Asheville\, NC 28803\n\nFee:      No Fee\nAudience: K-12 Educators\, School Administrators and District Superintendents\nCEUS:     5 Contact Hours  \nDescription: \n \n\n  \n  \n  \n  \n  \n  \n  \n  \n  \n  \nIf you have additional questions\, contact Jan Webster at   jwebster@wresa.org \n\nIf you are unsure whether your school system is a WRESA member\, click  WRESA MEMBER List.\n\nREGISTRATION WILL REOPEN WHEN IT IS RESCHEDULED
URL:https://wresa.org/event/franklin-covey-4-disciplines-of-execution-for-educators/
LOCATION:WCU Biltmore Park\, 28 Schenck Pkwy\, Asheville\, NC\, 28803\, United States
ATTACH;FMTTYPE=image/png:https://wresa.org/wp-content/uploads/2025/03/4DisciplinesOfEd-400x230-1.png
END:VEVENT
END:VCALENDAR